BEGIN:VCALENDAR
VERSION:2.0
PRODID:-//Pfadfinderstamm Landstreicher - ECPv6.10.2//NONSGML v1.0//EN
CALSCALE:GREGORIAN
METHOD:PUBLISH
X-WR-CALNAME:Pfadfinderstamm Landstreicher
X-ORIGINAL-URL:https://vcp-bretten.de
X-WR-CALDESC:Veranstaltungen für Pfadfinderstamm Landstreicher
REFRESH-INTERVAL;VALUE=DURATION:PT1H
X-Robots-Tag:noindex
X-PUBLISHED-TTL:PT1H
BEGIN:VTIMEZONE
TZID:Europe/Berlin
BEGIN:DAYLIGHT
TZOFFSETFROM:+0100
TZOFFSETTO:+0200
TZNAME:CEST
DTSTART:20160327T010000
END:DAYLIGHT
BEGIN:STANDARD
TZOFFSETFROM:+0200
TZOFFSETTO:+0100
TZNAME:CET
DTSTART:20161030T010000
END:STANDARD
BEGIN:DAYLIGHT
TZOFFSETFROM:+0100
TZOFFSETTO:+0200
TZNAME:CEST
DTSTART:20170326T010000
END:DAYLIGHT
BEGIN:STANDARD
TZOFFSETFROM:+0200
TZOFFSETTO:+0100
TZNAME:CET
DTSTART:20171029T010000
END:STANDARD
BEGIN:DAYLIGHT
TZOFFSETFROM:+0100
TZOFFSETTO:+0200
TZNAME:CEST
DTSTART:20180325T010000
END:DAYLIGHT
BEGIN:STANDARD
TZOFFSETFROM:+0200
TZOFFSETTO:+0100
TZNAME:CET
DTSTART:20181028T010000
END:STANDARD
BEGIN:DAYLIGHT
TZOFFSETFROM:+0100
TZOFFSETTO:+0200
TZNAME:CEST
DTSTART:20190331T010000
END:DAYLIGHT
BEGIN:STANDARD
TZOFFSETFROM:+0200
TZOFFSETTO:+0100
TZNAME:CET
DTSTART:20191027T010000
END:STANDARD
BEGIN:DAYLIGHT
TZOFFSETFROM:+0100
TZOFFSETTO:+0200
TZNAME:CEST
DTSTART:20200329T010000
END:DAYLIGHT
BEGIN:STANDARD
TZOFFSETFROM:+0200
TZOFFSETTO:+0100
TZNAME:CET
DTSTART:20201025T010000
END:STANDARD
BEGIN:DAYLIGHT
TZOFFSETFROM:+0100
TZOFFSETTO:+0200
TZNAME:CEST
DTSTART:20210328T010000
END:DAYLIGHT
BEGIN:STANDARD
TZOFFSETFROM:+0200
TZOFFSETTO:+0100
TZNAME:CET
DTSTART:20211031T010000
END:STANDARD
BEGIN:DAYLIGHT
TZOFFSETFROM:+0100
TZOFFSETTO:+0200
TZNAME:CEST
DTSTART:20220327T010000
END:DAYLIGHT
BEGIN:STANDARD
TZOFFSETFROM:+0200
TZOFFSETTO:+0100
TZNAME:CET
DTSTART:20221030T010000
END:STANDARD
END:VTIMEZONE
BEGIN:VEVENT
DTSTART;TZID=Europe/Berlin:20221203T170000
DTEND;TZID=Europe/Berlin:20221203T200000
DTSTAMP:20260421T142303
CREATED:20221124T134942Z
LAST-MODIFIED:20221124T141825Z
UID:4508-1670086800-1670097600@vcp-bretten.de
SUMMARY:Stammesversammlung 2022
DESCRIPTION:Alle Stammesmitglieder sind herzlich zur diesjährigen Stammesversammlung eingeladen. \nFolgende Themen werden wir besprechen: \n\nVereinsgründung\nEröffnung eines Stammeskontos\nStammeswebsite und Cloud
URL:https://vcp-bretten.de/termin/stammesversammlung2022/
LOCATION:Gruppenräume\, Turbanstraße 9\, Bretten\, Baden-Württemberg\, 75015\, Deutschland
CATEGORIES:Stamm
END:VEVENT
BEGIN:VEVENT
DTSTART;TZID=Europe/Berlin:20170211T150000
DTEND;TZID=Europe/Berlin:20170211T190000
DTSTAMP:20260421T142303
CREATED:20160204T181621Z
LAST-MODIFIED:20221124T140951Z
UID:3231-1486825200-1486839600@vcp-bretten.de
SUMMARY:Stammesversammlung 2017
DESCRIPTION:Es werden alle Stammesmitglieder herzlich eingeladen die Stammesversammlung zu besuchen. Es wird einen Jahresrückblick geben\, entschieden an welchen Aktionen der Stamm 2017 teilnehmen wird und die Ämter werden neu gewählt. Wir werden uns über jeden Teilnehmer freuen!
URL:https://vcp-bretten.de/termin/stammesversammlung2017/
LOCATION:Gruppenräume\, Turbanstraße 9\, Bretten\, Baden-Württemberg\, 75015\, Deutschland
CATEGORIES:Stamm
END:VEVENT
BEGIN:VEVENT
DTSTART;TZID=Europe/Berlin:20161231T180000
DTEND;TZID=Europe/Berlin:20170101T170000
DTSTAMP:20260421T142303
CREATED:20160120T205217Z
LAST-MODIFIED:20160120T205551Z
UID:300-1483207200-1483290000@vcp-bretten.de
SUMMARY:Silvester
DESCRIPTION:
URL:https://vcp-bretten.de/termin/silvester/
LOCATION:Gruppenräume\, Turbanstraße 9\, Bretten\, Baden-Württemberg\, 75015\, Deutschland
CATEGORIES:Stamm
END:VEVENT
BEGIN:VEVENT
DTSTART;TZID=Europe/Berlin:20161218T090000
DTEND;TZID=Europe/Berlin:20161218T110000
DTSTAMP:20260421T142303
CREATED:20160120T204114Z
LAST-MODIFIED:20160120T215033Z
UID:295-1482051600-1482058800@vcp-bretten.de
SUMMARY:Friedenslicht-Entsendungsgottesdienst
DESCRIPTION:Der Entsendungsgottesdienst für das Friedenslicht wird gegen 9Uhr in der Kreuzkirche in Bretten beginnen. Wir Pfadfinder werden selbst einen kleinen Teil zum Gottesdienst beisteuern.
URL:https://vcp-bretten.de/termin/friedensgottesdienst/
LOCATION:Baden-Württemberg
CATEGORIES:Stamm
END:VEVENT
BEGIN:VEVENT
DTSTART;TZID=Europe/Berlin:20161216T180000
DTEND;TZID=Europe/Berlin:20161217T140000
DTSTAMP:20260421T142303
CREATED:20160120T203731Z
LAST-MODIFIED:20160120T213816Z
UID:291-1481911200-1481983200@vcp-bretten.de
SUMMARY:Waldweihnacht
DESCRIPTION:Ein paar Tage vor Weihnachten wird wieder eine Übernachtung stattfinden. Es wird unter anderem gewichtelt und es werden neue Stammesmitglieder aufgenommen.
URL:https://vcp-bretten.de/termin/waldweihnacht/
LOCATION:Gruppenräume\, Turbanstraße 9\, Bretten\, Baden-Württemberg\, 75015\, Deutschland
CATEGORIES:Stamm
END:VEVENT
BEGIN:VEVENT
DTSTART;TZID=Europe/Berlin:20161211T150000
DTEND;TZID=Europe/Berlin:20161211T180000
DTSTAMP:20260421T142303
CREATED:20160120T205945Z
LAST-MODIFIED:20160120T213304Z
UID:301-1481468400-1481479200@vcp-bretten.de
SUMMARY:Friedenslicht
DESCRIPTION:Jedes Jahr entzündet ein Kind das Friedenslicht an der Flamme der Geburtsgrotte Christi in Betlehem. Die Ringverbände\,zu denen auch der VCP gehört\, verteilen dieses Licht in ganz Deutschland. Wir werden wie jedes Jahr an dieser landesweiten Aktion teilnehmen und das Friedenslicht in Empfang nehmen und dieses an einem gemeinsam geplanten Gottesdienst in der Stiftskirche verteilen.  \nDie Friedenslichtaktion 2016 steht in Deutschland unter dem Motto: „Frieden: Gefällt mir“ und will damit Zeichen für Frieden und Völkerverständigung setzen.
URL:https://vcp-bretten.de/termin/friedenslicht/
LOCATION:Baden-Württemberg
CATEGORIES:Land und Bund,Stamm
END:VEVENT
BEGIN:VEVENT
DTSTART;TZID=Europe/Berlin:20161210T080000
DTEND;TZID=Europe/Berlin:20161211T200000
DTSTAMP:20260421T142303
CREATED:20160610T135625Z
LAST-MODIFIED:20160620T162814Z
UID:4101-1481356800-1481486400@vcp-bretten.de
SUMMARY:Verkaufsstand auf dem Weihnachtsmarkt
DESCRIPTION:
URL:https://vcp-bretten.de/termin/verkaufsstand-auf-dem-weihnachtsmarkt/
LOCATION:Marktplatz\, Bretten\, 75015\, Deutschland
CATEGORIES:Stamm
END:VEVENT
BEGIN:VEVENT
DTSTART;TZID=Europe/Berlin:20161113T070000
DTEND;TZID=Europe/Berlin:20161113T170000
DTSTAMP:20260421T142303
CREATED:20160120T204554Z
LAST-MODIFIED:20160120T205620Z
UID:298-1479020400-1479056400@vcp-bretten.de
SUMMARY:Mineralientag
DESCRIPTION:Wie jedes Jahr versorgen wir Pfadfinder die Aussteller und Besucher des Mineralientages mit Essen und Trinken.
URL:https://vcp-bretten.de/termin/mineralientag/
LOCATION:Grüner Anlage\, Bretten
CATEGORIES:Stamm
END:VEVENT
BEGIN:VEVENT
DTSTART;VALUE=DATE:20161029
DTEND;VALUE=DATE:20161106
DTSTAMP:20260421T142304
CREATED:20160120T203614Z
LAST-MODIFIED:20160120T212737Z
UID:289-1477699200-1478390399@vcp-bretten.de
SUMMARY:Grundlehrgang
DESCRIPTION:Im Grundlehrgang könnt ihr ausprobieren\, wie Gruppenstunden funktionieren und selbst Programme entwerfen. Ihr erhaltet auch die nötigen Hintergrundinformationen zu den Themen  Gruppenpädagogik und Recht. Für alle zukünftigen Gruppenleitungen ab 15 Jahren ist dieser Kurs eine gute Gelegenheit den VCP und andere Pfadis näher kennenzulernen.\nWeitere Informationen werden in den Gruppenstunden bekannt gegeben.
URL:https://vcp-bretten.de/termin/grundlehrgang/
LOCATION:Baden-Württemberg
CATEGORIES:Schulungen
END:VEVENT
BEGIN:VEVENT
DTSTART;VALUE=DATE:20161014
DTEND;VALUE=DATE:20161017
DTSTAMP:20260421T142304
CREATED:20160120T200831Z
LAST-MODIFIED:20160120T205647Z
UID:277-1476403200-1476662399@vcp-bretten.de
SUMMARY:Telescout
DESCRIPTION:Vom 14.-16.10.16 werden sich die Teilnehmer des Telescouts damit beschäftigen\, alles Wissenswerte und Nützliche über Knoten\, Kothen\, Jurten und Schwarzzeltkonstruktionen zu lernen.
URL:https://vcp-bretten.de/termin/telescout/
LOCATION:Baden-Württemberg
CATEGORIES:Schulungen
END:VEVENT
BEGIN:VEVENT
DTSTART;VALUE=DATE:20160930
DTEND;VALUE=DATE:20161004
DTSTAMP:20260421T142304
CREATED:20160120T201620Z
LAST-MODIFIED:20160120T205655Z
UID:278-1475193600-1475539199@vcp-bretten.de
SUMMARY:Landeswölflingsfreizeit
DESCRIPTION:
URL:https://vcp-bretten.de/termin/landeswoelflingsfreizeit/
LOCATION:Baden-Württemberg
CATEGORIES:Land und Bund
END:VEVENT
BEGIN:VEVENT
DTSTART;TZID=Europe/Berlin:20160923T080000
DTEND;TZID=Europe/Berlin:20160925T170000
DTSTAMP:20260421T142304
CREATED:20160120T204218Z
LAST-MODIFIED:20160120T205701Z
UID:297-1474617600-1474822800@vcp-bretten.de
SUMMARY:Rover-Camp
DESCRIPTION:
URL:https://vcp-bretten.de/termin/rover-camp/
LOCATION:Baden-Württemberg
CATEGORIES:Land und Bund
END:VEVENT
BEGIN:VEVENT
DTSTART;TZID=Europe/Berlin:20160917T100000
DTEND;TZID=Europe/Berlin:20160917T180000
DTSTAMP:20260421T142304
CREATED:20160204T182154Z
LAST-MODIFIED:20160204T182154Z
UID:3234-1474106400-1474135200@vcp-bretten.de
SUMMARY:Stammesrat
DESCRIPTION:
URL:https://vcp-bretten.de/termin/stammesrat0916/
LOCATION:Gruppenräume\, Turbanstraße 9\, Bretten\, Baden-Württemberg\, 75015\, Deutschland
CATEGORIES:Stamm
END:VEVENT
BEGIN:VEVENT
DTSTART;TZID=Europe/Berlin:20160910T100000
DTEND;TZID=Europe/Berlin:20160910T180000
DTSTAMP:20260421T142304
CREATED:20160725T205337Z
LAST-MODIFIED:20160725T210104Z
UID:4204-1473501600-1473530400@vcp-bretten.de
SUMMARY:Tag der offenen Jurte
DESCRIPTION:Bekommt man mit nur einem Streichholz ein Lagerfeuer an? Und was versteht man unter Mastwuf\, Palsteg und Kreuzknoten?\nBeim Tag der offenen Tür am 10.09 in unseren Gruppenräumen in der Turbanstraße 9 können sich Groß\nund Klein von 10 bis 18 Uhr ganz nach Baden-Powells Ideen kreativ entfalten. Es erwarten euch kleine Workshops\, in denen\ngetüftelt gebastelt und gewerkelt wird. Gemütliche Runden am Lagerfeuer – Lagerflair garantiert.\n\nOrganisiert\, durchgeführt und bewirtet von uns\, dem Pfadfinderstamm „Landstreicher“ aus Bretten.
URL:https://vcp-bretten.de/termin/tag-der-offenen-jurte0916/
LOCATION:Gruppenräume\, Turbanstraße 9\, Bretten\, Baden-Württemberg\, 75015\, Deutschland
CATEGORIES:Stamm
ATTACH;FMTTYPE=image/jpeg:https://vcp-bretten.de/wp-content/uploads/feuermachen.jpg
END:VEVENT
BEGIN:VEVENT
DTSTART;TZID=Europe/Berlin:20160813T080000
DTEND;TZID=Europe/Berlin:20160814T170000
DTSTAMP:20260421T142304
CREATED:20160120T203459Z
LAST-MODIFIED:20160120T205707Z
UID:288-1471075200-1471194000@vcp-bretten.de
SUMMARY:Nachtrupp Landeslager
DESCRIPTION:
URL:https://vcp-bretten.de/termin/nachtrupp-lala/
LOCATION:Baden-Württemberg
CATEGORIES:Land und Bund
END:VEVENT
BEGIN:VEVENT
DTSTART;VALUE=DATE:20160803
DTEND;VALUE=DATE:20160813
DTSTAMP:20260421T142304
CREATED:20160120T073759Z
LAST-MODIFIED:20160729T110951Z
UID:187-1470182400-1471046399@vcp-bretten.de
SUMMARY:VCP Landeslager
DESCRIPTION:Landeslager 2016 des VCP Baden in Bayern mit internationalen Gästen.
URL:https://vcp-bretten.de/termin/vcp-landeslager/
LOCATION:Zeltplatz „Sauloch“\, Sonnenleite 20\, Rödental\, Bayern\, Deutschland
CATEGORIES:Land und Bund
END:VEVENT
BEGIN:VEVENT
DTSTART;TZID=Europe/Berlin:20160730T080000
DTEND;TZID=Europe/Berlin:20160802T170000
DTSTAMP:20260421T142304
CREATED:20160120T203401Z
LAST-MODIFIED:20160120T205727Z
UID:287-1469865600-1470157200@vcp-bretten.de
SUMMARY:Vortrupp Landeslager
DESCRIPTION:
URL:https://vcp-bretten.de/termin/vortrupp-lala/
LOCATION:Baden-Württemberg
CATEGORIES:Land und Bund
END:VEVENT
BEGIN:VEVENT
DTSTART;TZID=Europe/Berlin:20160722T180000
DTEND;TZID=Europe/Berlin:20160723T140000
DTSTAMP:20260421T142304
CREATED:20160120T203834Z
LAST-MODIFIED:20160120T205721Z
UID:292-1469210400-1469282400@vcp-bretten.de
SUMMARY:Sommerübernachtung
DESCRIPTION:
URL:https://vcp-bretten.de/termin/sommeruebernachtung/
LOCATION:Gruppenräume\, Turbanstraße 9\, Bretten\, Baden-Württemberg\, 75015\, Deutschland
CATEGORIES:Stamm
END:VEVENT
BEGIN:VEVENT
DTSTART;VALUE=DATE:20160603
DTEND;VALUE=DATE:20160606
DTSTAMP:20260421T142304
CREATED:20160120T203120Z
LAST-MODIFIED:20160120T205732Z
UID:284-1464912000-1465171199@vcp-bretten.de
SUMMARY:Landeshaijk
DESCRIPTION:
URL:https://vcp-bretten.de/termin/landeshaijk_6_16/
LOCATION:Baden-Württemberg
CATEGORIES:Land und Bund
END:VEVENT
BEGIN:VEVENT
DTSTART;TZID=Europe/Berlin:20160507T100000
DTEND;TZID=Europe/Berlin:20160507T130000
DTSTAMP:20260421T142304
CREATED:20160428T175051Z
LAST-MODIFIED:20160428T175149Z
UID:3264-1462615200-1462626000@vcp-bretten.de
SUMMARY:Kuchenverkauf auf dem Marktplatz
DESCRIPTION:Der Pfadfinderstamm Landstreicher Bretten verkauft am Samstag\, den 07.05.2016\, Kuchen auf dem Marktplatz Bretten am Brunnen\, gegenüber des alten Rathauses/Melanchtonhauses.\nDas eingenommene Geld wird dazu verwendet um Material wie Zelte\, Küchenutensilien etc. zu kaufen\, die für Fahrten und Lager der Kinder und Jugendlichen gebraucht werden. \nEs sind alle herzlich eingeladen um sich an unserem Stand über unsere Jugendarbeit und das Pfadfinden zu informieren und Kaffee und Kuchen für einen geringen Betrag zu kaufen. Spenden sind natürlich gerne gesehen. \nFreundliche Grüße und gut Pfad\,\nder Pfadfinderstamm Landstreicher
URL:https://vcp-bretten.de/termin/kuchenverkauf-auf-dem-marktplatz/
LOCATION:Marktplatz Bretten\, Bretten\, Baden-Württemberg\, 75015\, Deutschland
CATEGORIES:Stamm
END:VEVENT
BEGIN:VEVENT
DTSTART;TZID=Europe/Berlin:20160416T100000
DTEND;TZID=Europe/Berlin:20160416T180000
DTSTAMP:20260421T142304
CREATED:20160204T181934Z
LAST-MODIFIED:20160204T182025Z
UID:3233-1460800800-1460829600@vcp-bretten.de
SUMMARY:Stammesrat
DESCRIPTION:
URL:https://vcp-bretten.de/termin/stammesrat0416/
LOCATION:Gruppenräume\, Turbanstraße 9\, Bretten\, Baden-Württemberg\, 75015\, Deutschland
CATEGORIES:Stamm
END:VEVENT
BEGIN:VEVENT
DTSTART;VALUE=DATE:20160408
DTEND;VALUE=DATE:20160411
DTSTAMP:20260421T142304
CREATED:20160120T202949Z
LAST-MODIFIED:20160126T145049Z
UID:282-1460073600-1460332799@vcp-bretten.de
SUMMARY:Völkerballturnier
DESCRIPTION:Das diesjährige Volleballturnier(VoBaTu) wird in Bretten in der Grüner Anlage\, sowie den Gruppenräumen stattfinden.\nEin sportliches und fröhliches Wochenende erwartet die Teilnehmer.
URL:https://vcp-bretten.de/termin/voelkerballturnier/
LOCATION:Grüner Anlage\, Bretten
CATEGORIES:Land und Bund,Stamm
END:VEVENT
BEGIN:VEVENT
DTSTART;VALUE=DATE:20160326
DTEND;VALUE=DATE:20160403
DTSTAMP:20260421T142304
CREATED:20160120T204945Z
LAST-MODIFIED:20160120T214534Z
UID:281-1458950400-1459641599@vcp-bretten.de
SUMMARY:Landesschulungswoche
DESCRIPTION:In dieser Woche wird es wieder den Grund- oder Aufbaulehrgang geben\, aber auch den Lehrgang für gute Organisation im Land (LEGO). \nWeitere Informationen\, sowie Anmeldeschreiben werden in den Gruppenstunden verteilt.
URL:https://vcp-bretten.de/termin/landesschulungswoche/
LOCATION:Baden-Württemberg
CATEGORIES:Schulungen
END:VEVENT
BEGIN:VEVENT
DTSTART;VALUE=DATE:20160304
DTEND;VALUE=DATE:20160307
DTSTAMP:20260421T142304
CREATED:20160120T201947Z
LAST-MODIFIED:20160120T205757Z
UID:279-1457049600-1457308799@vcp-bretten.de
SUMMARY:Landesversammlung
DESCRIPTION:
URL:https://vcp-bretten.de/termin/landesversammlung_3_16/
LOCATION:Baden Powell Haus\, Gengenbach
CATEGORIES:Land und Bund,Stamm
END:VEVENT
BEGIN:VEVENT
DTSTART;TZID=Europe/Berlin:20160213T100000
DTEND;TZID=Europe/Berlin:20160213T180000
DTSTAMP:20260421T142304
CREATED:20160204T181333Z
LAST-MODIFIED:20160204T182539Z
UID:3230-1455357600-1455386400@vcp-bretten.de
SUMMARY:Stammesrat
DESCRIPTION:
URL:https://vcp-bretten.de/termin/stammesrat0216/
LOCATION:Gruppenräume\, Turbanstraße 9\, Bretten\, Baden-Württemberg\, 75015\, Deutschland
CATEGORIES:Stamm
END:VEVENT
END:VCALENDAR